BEGIN:VCALENDAR
VERSION:2.0
PRODID:-//Tukios.com/
BEGIN:VEVENT
UID:38070dae-502d-4fac-af95-f4b2ea29a7f3@obits.lonestarcremation.com
DTSTAMP:20260423T184137Z
DTSTART:20260501T160000Z
DTEND:20260501T170000Z
SUMMARY:Memorial Service
DESCRIPTION:
URL:https://obits.lonestarcremation.com/peter-garland
LOCATION:First Presbyterian Church 303 West Bridge Street  Granbury TX 
	76048
GEO:32.4430194;-97.79024
END:VEVENT
END:VCALENDAR